BEGIN:VCALENDAR
VERSION:2.0
PRODID:-//ASL FANS - ECPv4.6.22.1//NONSGML v1.0//EN
CALSCALE:GREGORIAN
METHOD:PUBLISH
X-WR-CALNAME:ASL FANS
X-ORIGINAL-URL:http://35.170.176.118
X-WR-CALDESC:Events for ASL FANS
BEGIN:VEVENT
DTSTART;TZID=UTC+0:20181103T103000
DTEND;TZID=UTC+0:20181103T233000
DTSTAMP:20260424T094723
CREATED:20180822T033440Z
LAST-MODIFIED:20180822T033511Z
UID:5932-1541241000-1541287800@35.170.176.118
SUMMARY:The Jungle Book
DESCRIPTION:I Love the Jungle Book! I always loved them from the time I was a kid. I am excited to be able to let my boys see this performance in this beautiful language ASL. This performance will be an Interpreted one. Log on to find other shows where interpreters will not be used. \nAdapted by April-Dawn Gladu | Based on the story by Rudyard Kipling \nWhat were you raised by\, wolves? In Mowgli’s case\, the answer is yes! Taken in by Mother Wolf as a baby\, the now 11-year-old boy has grown to know the Jungle Law and the ways of the wild. When a cunning tiger seeks to settle an old score\, it’s up to Mowgli and the pack to outsmart him. This retelling of the classic tale takes audiences on a thrilling journey through the Indian jungle! \nThis performance of ‘The Jungle Book’ will be interpreted by sign language interpreters from Signing Shadows\, LLC. Please note – this performance will have traditional interpreting – NOT shadow interpreting. \nASL Interpreted Performances: Saturday\, November 3\, 2018 at 10:30 AM \n
URL:http://35.170.176.118/event/the-jungle-book/
LOCATION:Orlando Shakes\, 812 E.Rollins St.\, Orlando\, FL\, 32803\, United States
CATEGORIES:ASL Family Event,family friendly,Social and Supporting
ATTACH;FMTTYPE=image/jpeg:http://35.170.176.118/wp-content/uploads/2018/08/the-jungle-book-2016-after-credits-hq.jpg
END:VEVENT
BEGIN:VEVENT
DTSTART;TZID=UTC+0:20181103T180000
DTEND;TZID=UTC+0:20181103T210000
DTSTAMP:20260424T094723
CREATED:20180802T005339Z
LAST-MODIFIED:20180802T005339Z
UID:5739-1541268000-1541278800@35.170.176.118
SUMMARY:Discovering Deaf Worlds 4th Annual Fundraising Gala
DESCRIPTION:Here’s another one Family! \nDiscovering Deaf Worlds 4th Annual Fundraising Gala! \nDiscovering Deaf Worlds DDW is dedicated to creating a world that recognizes the abilities of deaf and hard of hearing persons in developing countries to acquire an education\, maintain a job\, raise families\, and live autonomously. DDW provides organizational management training to Deaf advocacy organizations in developing countries. All projects aim to improve standards of Deaf education\, communication accessibility\, employment opportunities and human rights. \n  \nSo come on out and support the wonderful things they do and enjoy an evening of hors d’oeuvres and one Free cocktail on them! \n \n
URL:http://35.170.176.118/event/discovering-deaf-worlds-4th-annual-fundraising-gala/
LOCATION:The Sphinx Club\, 1315 K St. NW\,\, Washington\, DC\, WA\, 20005\, United States
ATTACH;FMTTYPE=image/png:http://35.170.176.118/wp-content/uploads/2018/08/deaf-world-fun-raising.png
ORGANIZER;CN="Discovering%20Deaf%20Worlds":MAILTO:ddwteam@disoveringdeafworlds.org
END:VEVENT
END:VCALENDAR