BEGIN:VCALENDAR
VERSION:2.0
PRODID:-//ASL FANS - ECPv4.6.22.1//NONSGML v1.0//EN
CALSCALE:GREGORIAN
METHOD:PUBLISH
X-WR-CALNAME:ASL FANS
X-ORIGINAL-URL:http://35.170.176.118
X-WR-CALDESC:Events for ASL FANS
BEGIN:VEVENT
DTSTART;TZID=UTC+0:20180929T100000
DTEND;TZID=UTC+0:20180929T160000
DTSTAMP:20260421T225608
CREATED:20180817T233212Z
LAST-MODIFIED:20180817T233643Z
UID:5863-1538215200-1538236800@35.170.176.118
SUMMARY:Jax Beach Fall Arts Market
DESCRIPTION:Look\, who does not enjoy spending time at the beach!?  I know I do! So why not join me and many others on September 29th and check out the Arts Market! \n \n  \nThere will be over 50 local artist on display at the Seawalk Pavilion in Jacksonville Beach\, not to mention all the different food and drink spots you can visit and or try! This event is family and pet friendly! \nI hope we will see some art from our Deaf community! \nOh\, I almost forgot to mention that if you are interested in begin a vendor at this event visit www.jaxbeachartsmarket.com  \nI also want to say you know when there is anything at the beach you have to pay for parking. you also know that parking is a hassle when there is an event at the beach so either come early and stay late or be prepared to walk to the event\, or do what the locals do and ride your bike!! \n
URL:http://35.170.176.118/event/jax-beach-fall-arts-market/
LOCATION:Seawalk Pavilion\, 75 1st St. North\, Jacksonville Beach\, FL\, 32250\, United States
CATEGORIES:All welcome to attend (hearing),family friendly,Shopping,Social,something to do
ATTACH;FMTTYPE=image/jpeg:http://35.170.176.118/wp-content/uploads/2018/08/seawalk.jpg
END:VEVENT
BEGIN:VEVENT
DTSTART;TZID=UTC+0:20180929T100000
DTEND;TZID=UTC+0:20180929T160000
DTSTAMP:20260421T225608
CREATED:20180822T011358Z
LAST-MODIFIED:20180822T011547Z
UID:5907-1538215200-1538236800@35.170.176.118
SUMMARY:Deaf Fest!
DESCRIPTION:Come one! Come all and celebrate The Culture of the Deaf Community!! and guess what? While you are there you will have the opportunity to see and or meet Kyle Schulze “Deaf Ninja” of American Ninja Warrior! He did his thang on the show! So proud of him! \n \nI am looking forward to this event and you should too. You know what I always say another opportunity to meet new people\, learn more about Deaf Culture and use your skill set no matter what leve you are! \nSee you there!\nThere will be face painting\, farm animals. wagon rides\, food vendors and pony rides not to mention funnel cakes and snowcones! \n  \n
URL:http://35.170.176.118/event/deaf-fest/
LOCATION:Florida Agricultural Museum\, 7900 old Kings Rd. N.\, Palm Coast\, FL\, 32137\, United States
CATEGORIES:ASL Family Event,Deaf Art and Supporting,family friendly,Social,Social and learning,Social and Supporting
ATTACH;FMTTYPE=image/jpeg:http://35.170.176.118/wp-content/uploads/2018/08/deaf-fest.jpg
END:VEVENT
BEGIN:VEVENT
DTSTART;TZID=UTC+0:20180929T180000
DTEND;TZID=UTC+0:20180929T220000
DTSTAMP:20260421T225608
CREATED:20180926T233005Z
LAST-MODIFIED:20180926T233005Z
UID:6013-1538244000-1538258400@35.170.176.118
SUMMARY:Deaf Night Out-GainesvilleOcala
DESCRIPTION:It’s time to meet new friends and old friends and students! \nDeaf Night Out is where we Deaf community come together and feel comfortable with ourselves and also open the hearing eyes to see that we are not different from them. \nAlso\, help teach ASL students so they can be better with ASL. \nCome out meet new people and have fun learning and using your ASL skills no matter the level. \n
URL:http://35.170.176.118/event/deaf-night-out-gainesvilleocala/
LOCATION:Gator Dockside\, 3842 W. Newberry Rd\, Gainesville\, FL\, FL\, 32607\, United States
CATEGORIES:All welcome to attend (hearing),Drinks,Meetup,Social and learning
ATTACH;FMTTYPE=image/jpeg:http://35.170.176.118/wp-content/uploads/2018/09/A-Night-out.jpg
END:VEVENT
END:VCALENDAR